Package: Cogito Version: 1.16.0 Command: /Library/Frameworks/R.framework/Resources/bin/R CMD INSTALL Cogito StartedAt: 2025-11-06 15:22:43 -0500 (Thu, 06 Nov 2025) EndedAt: 2025-11-06 15:22:59 -0500 (Thu, 06 Nov 2025) EllapsedTime: 16.3 seconds RetCode: 0 Status: OK