Package: Cogito Version: 1.16.0 Command: rm -rf Cogito.buildbin-libdir && mkdir Cogito.buildbin-libdir && /Users/biocbuild/BBS/utils/build-universal.sh Cogito_1.16.0.tar.gz /Library/Frameworks/R.framework/Resources/bin/R Cogito.buildbin-libdir StartedAt: 2025-11-06 23:00:24 -0500 (Thu, 06 Nov 2025) EndedAt: 2025-11-06 23:00:42 -0500 (Thu, 06 Nov 2025) EllapsedTime: 17.3 seconds RetCode: 0 Status: OK PackageFile: Cogito_1.16.0.tgz PackageFileSize: 1.22 MiB