Package: Cogito Version: 1.16.0 Maintainer: Annika Bürger MaintainerEmail: a.buerger at uni-muenster.de git_url: https://git.bioconductor.org/packages/Cogito git_branch: RELEASE_3_22 git_last_commit: 2320bbf git_last_commit_date: 2025-10-29 11:13:02 -0500 (Wed, 29 Oct 2025)