Package: CoSIA Version: 1.10.1 Command: /home/biocbuild/bbs-3.22-bioc/R/bin/R CMD check --install=check:CoSIA.install-out.txt --library=/home/biocbuild/bbs-3.22-bioc/R/site-library --timings CoSIA_1.10.1.tar.gz StartedAt: 2025-11-09 22:35:44 -0500 (Sun, 09 Nov 2025) EndedAt: 2025-11-09 23:15:44 -0500 (Sun, 09 Nov 2025) EllapsedTime: 2400.0 seconds RetCode: None Status: TIMEOUT CheckDir: CoSIA.Rcheck Warnings: NA