Package: ClustIRR Version: 1.8.0 Command: /home/biocbuild/bbs-3.22-bioc/R/bin/R CMD INSTALL ClustIRR StartedAt: 2025-11-10 15:13:25 -0500 (Mon, 10 Nov 2025) EndedAt: 2025-11-10 15:16:49 -0500 (Mon, 10 Nov 2025) EllapsedTime: 203.9 seconds RetCode: 0 Status: OK