Package: ClustIRR Version: 1.8.0 Command: /home/biocbuild/bbs-3.22-bioc/R/bin/R CMD check --install=check:ClustIRR.install-out.txt --library=/home/biocbuild/bbs-3.22-bioc/R/site-library --timings ClustIRR_1.8.0.tar.gz StartedAt: 2025-11-10 22:23:51 -0500 (Mon, 10 Nov 2025) EndedAt: 2025-11-10 22:37:56 -0500 (Mon, 10 Nov 2025) EllapsedTime: 844.8 seconds RetCode: 0 Status: OK CheckDir: ClustIRR.Rcheck Warnings: 0