Package: ClustIRR Version: 1.8.0 Command: /home/biocbuild/bbs-3.22-bioc/R/bin/R CMD build --keep-empty-dirs --no-resave-data --md5 ClustIRR StartedAt: 2025-11-10 16:59:48 -0500 (Mon, 10 Nov 2025) EndedAt: 2025-11-10 17:05:28 -0500 (Mon, 10 Nov 2025) EllapsedTime: 339.3 seconds RetCode: 0 Status: OK PackageFile: ClustIRR_1.8.0.tar.gz PackageFileSize: 3.032 MiB