Package: ClustAll Version: 1.5.0 Command: /home/biocbuild/R/R/bin/R CMD check --install=check:ClustAll.install-out.txt --library=/home/biocbuild/R/R/site-library --no-vignettes --timings ClustAll_1.5.0.tar.gz StartedAt: 2025-10-21 06:35:17 -0000 (Tue, 21 Oct 2025) EndedAt: 2025-10-21 06:39:46 -0000 (Tue, 21 Oct 2025) EllapsedTime: 269.2 seconds RetCode: 0 Status: OK CheckDir: ClustAll.Rcheck Warnings: 0