Package: ClustAll Version: 1.5.0 Command: F:\biocbuild\bbs-3.22-bioc\R\bin\R.exe CMD check --no-multiarch --install=check:ClustAll.install-out.txt --library=F:\biocbuild\bbs-3.22-bioc\R\library --no-vignettes --timings ClustAll_1.5.0.tar.gz StartedAt: 2025-08-15 01:43:26 -0400 (Fri, 15 Aug 2025) EndedAt: 2025-08-15 01:47:39 -0400 (Fri, 15 Aug 2025) EllapsedTime: 252.4 seconds RetCode: 0 Status: OK CheckDir: ClustAll.Rcheck Warnings: 0