Package: ClustAll Version: 1.6.0 Command: /home/biocbuild/bbs-3.22-bioc/R/bin/R CMD build --keep-empty-dirs --no-resave-data --md5 ClustAll StartedAt: 2025-11-06 16:53:26 -0500 (Thu, 06 Nov 2025) EndedAt: 2025-11-06 16:57:36 -0500 (Thu, 06 Nov 2025) EllapsedTime: 249.2 seconds RetCode: 0 Status: OK PackageFile: ClustAll_1.6.0.tar.gz PackageFileSize: 2.949 MiB