Package: CluMSID Version: 1.24.0 Command: /Library/Frameworks/R.framework/Resources/bin/R CMD INSTALL CluMSID StartedAt: 2025-04-21 15:23:59 -0400 (Mon, 21 Apr 2025) EndedAt: 2025-04-21 15:24:17 -0400 (Mon, 21 Apr 2025) EllapsedTime: 18.2 seconds RetCode: 0 Status: OK