Package: CleanUpRNAseq Version: 1.4.0 Command: /home/biocbuild/bbs-3.22-bioc/R/bin/R CMD INSTALL CleanUpRNAseq StartedAt: 2025-11-09 16:04:09 -0500 (Sun, 09 Nov 2025) EndedAt: 2025-11-09 16:05:01 -0500 (Sun, 09 Nov 2025) EllapsedTime: 52.1 seconds RetCode: 0 Status: OK