Package: CiteFuse Version: 1.22.0 Command: /home/biocbuild/R/R/bin/R CMD INSTALL CiteFuse StartedAt: 2025-11-13 22:07:24 -0000 (Thu, 13 Nov 2025) EndedAt: 2025-11-13 22:08:32 -0000 (Thu, 13 Nov 2025) EllapsedTime: 68.5 seconds RetCode: 0 Status: OK