Package: CiteFuse Version: 1.22.0 Command: /home/biocbuild/R/R/bin/R CMD build --keep-empty-dirs --no-resave-data CiteFuse StartedAt: 2025-11-14 00:33:46 -0000 (Fri, 14 Nov 2025) EndedAt: 2025-11-14 00:43:34 -0000 (Fri, 14 Nov 2025) EllapsedTime: 587.8 seconds RetCode: 0 Status: OK PackageFile: CiteFuse_1.22.0.tar.gz PackageFileSize: 2.538 MiB