Package: CiteFuse Version: 1.20.0 Command: /Library/Frameworks/R.framework/Resources/bin/R CMD INSTALL CiteFuse StartedAt: 2025-04-21 15:45:50 -0400 (Mon, 21 Apr 2025) EndedAt: 2025-04-21 15:46:51 -0400 (Mon, 21 Apr 2025) EllapsedTime: 60.6 seconds RetCode: 0 Status: OK