Package: CiteFuse Version: 1.20.0 Command: /Library/Frameworks/R.framework/Resources/bin/R CMD build --keep-empty-dirs --no-resave-data CiteFuse StartedAt: 2025-04-21 16:18:26 -0400 (Mon, 21 Apr 2025) EndedAt: 2025-04-21 16:21:17 -0400 (Mon, 21 Apr 2025) EllapsedTime: 171.2 seconds RetCode: 0 Status: OK PackageFile: CiteFuse_1.20.0.tar.gz PackageFileSize: 3.401 MiB