Package: CircSeqAlignTk Version: 1.12.0 Command: /home/biocbuild/R/R/bin/R CMD INSTALL CircSeqAlignTk StartedAt: 2025-11-20 22:45:19 -0000 (Thu, 20 Nov 2025) EndedAt: 2025-11-20 22:46:19 -0000 (Thu, 20 Nov 2025) EllapsedTime: 60.4 seconds RetCode: 0 Status: OK