Package: Chromatograms Version: 1.0.0 Command: /home/biocbuild/bbs-3.22-bioc/R/bin/R CMD check --install=check:Chromatograms.install-out.txt --library=/home/biocbuild/bbs-3.22-bioc/R/site-library --timings Chromatograms_1.0.0.tar.gz StartedAt: 2025-11-11 22:11:22 -0500 (Tue, 11 Nov 2025) EndedAt: 2025-11-11 22:13:53 -0500 (Tue, 11 Nov 2025) EllapsedTime: 151.1 seconds RetCode: 0 Status: OK CheckDir: Chromatograms.Rcheck Warnings: 0