Package: Chromatograms Version: 1.0.0 Command: /home/biocbuild/bbs-3.22-bioc/R/bin/R CMD build --keep-empty-dirs --no-resave-data --md5 Chromatograms StartedAt: 2025-11-11 16:53:43 -0500 (Tue, 11 Nov 2025) EndedAt: 2025-11-11 16:54:22 -0500 (Tue, 11 Nov 2025) EllapsedTime: 39.0 seconds RetCode: 0 Status: OK PackageFile: Chromatograms_1.0.0.tar.gz PackageFileSize: 960.4 KiB