Package: Chromatograms Version: 1.0.0 Command: /Library/Frameworks/R.framework/Resources/bin/R CMD INSTALL Chromatograms StartedAt: 2025-11-06 15:07:53 -0500 (Thu, 06 Nov 2025) EndedAt: 2025-11-06 15:07:57 -0500 (Thu, 06 Nov 2025) EllapsedTime: 4.9 seconds RetCode: 0 Status: OK