Package: Chromatograms Version: 1.0.0 Command: /Library/Frameworks/R.framework/Resources/bin/R CMD build --keep-empty-dirs --no-resave-data Chromatograms StartedAt: 2025-11-06 15:55:40 -0500 (Thu, 06 Nov 2025) EndedAt: 2025-11-06 15:55:57 -0500 (Thu, 06 Nov 2025) EllapsedTime: 17.2 seconds RetCode: 0 Status: OK PackageFile: Chromatograms_1.0.0.tar.gz PackageFileSize: 968.5 KiB