Package: Chromatograms Version: 1.0.0 Command: rm -rf Chromatograms.buildbin-libdir && mkdir Chromatograms.buildbin-libdir && /Users/biocbuild/BBS/utils/build-universal.sh Chromatograms_1.0.0.tar.gz /Library/Frameworks/R.framework/Resources/bin/R Chromatograms.buildbin-libdir StartedAt: 2025-11-06 22:59:32 -0500 (Thu, 06 Nov 2025) EndedAt: 2025-11-06 22:59:38 -0500 (Thu, 06 Nov 2025) EllapsedTime: 6.1 seconds RetCode: 0 Status: OK PackageFile: Chromatograms_1.0.0.tgz PackageFileSize: 1.322 MiB