Package: ChromSCape Version: 1.18.0 Command: rm -rf ChromSCape.buildbin-libdir && mkdir ChromSCape.buildbin-libdir && E:\biocbuild\bbs-3.21-bioc\R\bin\R.exe CMD INSTALL --build --library=ChromSCape.buildbin-libdir ChromSCape_1.18.0.tar.gz StartedAt: 2025-08-15 08:59:12 -0400 (Fri, 15 Aug 2025) EndedAt: 2025-08-15 09:01:08 -0400 (Fri, 15 Aug 2025) EllapsedTime: 116.1 seconds RetCode: 0 Status: OK PackageFile: ChromSCape_1.18.0.zip PackageFileSize: 6.12 MiB