Package: ChromSCape Version: 1.20.0 Command: /Library/Frameworks/R.framework/Resources/bin/R CMD build --keep-empty-dirs --no-resave-data ChromSCape StartedAt: 2025-11-10 15:55:54 -0500 (Mon, 10 Nov 2025) EndedAt: 2025-11-10 15:56:24 -0500 (Mon, 10 Nov 2025) EllapsedTime: 29.3 seconds RetCode: 0 Status: OK PackageFile: ChromSCape_1.20.0.tar.gz PackageFileSize: 5.509 MiB