Package: ChromSCape Version: 1.20.0 Command: rm -rf ChromSCape.buildbin-libdir && mkdir ChromSCape.buildbin-libdir && /Users/biocbuild/BBS/utils/build-universal.sh ChromSCape_1.20.0.tar.gz /Library/Frameworks/R.framework/Resources/bin/R ChromSCape.buildbin-libdir StartedAt: 2025-11-10 23:14:50 -0500 (Mon, 10 Nov 2025) EndedAt: 2025-11-10 23:15:13 -0500 (Mon, 10 Nov 2025) EllapsedTime: 22.4 seconds RetCode: 0 Status: OK PackageFile: ChromSCape_1.20.0.tgz PackageFileSize: 6.019 MiB