Package: ChromHeatMap Version: 1.62.0 Command: /home/biocbuild/bbs-3.21-bioc/R/bin/R CMD check --install=check:ChromHeatMap.install-out.txt --library=/home/biocbuild/bbs-3.21-bioc/R/site-library --timings ChromHeatMap_1.62.0.tar.gz StartedAt: 2025-10-15 21:43:00 -0400 (Wed, 15 Oct 2025) EndedAt: 2025-10-15 21:47:15 -0400 (Wed, 15 Oct 2025) EllapsedTime: 255.3 seconds RetCode: 0 Status: OK CheckDir: ChromHeatMap.Rcheck Warnings: 0