Package: ChromHeatMap Version: 1.62.0 Command: /home/biocbuild/R/R/bin/R CMD INSTALL ChromHeatMap StartedAt: 2025-10-13 20:42:27 -0000 (Mon, 13 Oct 2025) EndedAt: 2025-10-13 20:43:18 -0000 (Mon, 13 Oct 2025) EllapsedTime: 51.0 seconds RetCode: 0 Status: OK