Package: ChromHeatMap Version: 1.62.0 Command: /home/biocbuild/R/R/bin/R CMD build --keep-empty-dirs --no-resave-data ChromHeatMap StartedAt: 2025-10-13 23:36:05 -0000 (Mon, 13 Oct 2025) EndedAt: 2025-10-13 23:37:12 -0000 (Mon, 13 Oct 2025) EllapsedTime: 67.0 seconds RetCode: 0 Status: OK PackageFile: ChromHeatMap_1.62.0.tar.gz PackageFileSize: 311.8 KiB