Package: Chicago Version: 1.36.0 Command: /home/biocbuild/bbs-3.21-bioc/R/bin/R CMD INSTALL Chicago StartedAt: 2025-10-15 15:07:27 -0400 (Wed, 15 Oct 2025) EndedAt: 2025-10-15 15:08:02 -0400 (Wed, 15 Oct 2025) EllapsedTime: 34.3 seconds RetCode: 0 Status: OK