Package: Chicago Version: 1.36.0 Command: /home/biocbuild/bbs-3.21-bioc/R/bin/R CMD build --keep-empty-dirs --no-resave-data Chicago StartedAt: 2025-10-15 16:42:25 -0400 (Wed, 15 Oct 2025) EndedAt: 2025-10-15 16:43:56 -0400 (Wed, 15 Oct 2025) EllapsedTime: 91.1 seconds RetCode: 0 Status: OK PackageFile: Chicago_1.36.0.tar.gz PackageFileSize: 1.248 MiB