Package: Chicago Version: 1.36.0 Command: rm -rf Chicago.buildbin-libdir && mkdir Chicago.buildbin-libdir && /Users/biocbuild/BBS/utils/build-universal.sh Chicago_1.36.0.tar.gz /Library/Frameworks/R.framework/Resources/bin/R Chicago.buildbin-libdir StartedAt: 2025-04-22 00:37:49 -0400 (Tue, 22 Apr 2025) EndedAt: 2025-04-22 00:38:02 -0400 (Tue, 22 Apr 2025) EllapsedTime: 12.7 seconds RetCode: 0 Status: OK PackageFile: Chicago_1.36.0.tgz PackageFileSize: 1.463 MiB