Package: ChemmineR Version: 3.60.0 Command: chmod a+r ChemmineR -R && E:\biocbuild\bbs-3.21-bioc\R\bin\R.exe CMD build --keep-empty-dirs --no-resave-data ChemmineR StartedAt: 2025-08-14 17:59:24 -0400 (Thu, 14 Aug 2025) EndedAt: 2025-08-14 18:01:35 -0400 (Thu, 14 Aug 2025) EllapsedTime: 130.9 seconds RetCode: 1 Status: ERROR PackageFile: None PackageFileSize: NA