Package: ChemmineR Version: 3.60.0 Command: rm -rf ChemmineR.buildbin-libdir && mkdir ChemmineR.buildbin-libdir && E:\biocbuild\bbs-3.21-bioc\R\bin\R.exe CMD INSTALL --build --library=ChemmineR.buildbin-libdir ChemmineR_3.60.0.tar.gz StartedAt: 2025-08-12 09:20:02 -0400 (Tue, 12 Aug 2025) EndedAt: 2025-08-12 09:21:55 -0400 (Tue, 12 Aug 2025) EllapsedTime: 113.8 seconds RetCode: 0 Status: OK PackageFile: ChemmineR_3.60.0.zip PackageFileSize: 2.184 MiB