Package: ChemmineR Version: 3.60.0 Command: /home/biocbuild/bbs-3.21-bioc/R/bin/R CMD check --install=check:ChemmineR.install-out.txt --library=/home/biocbuild/bbs-3.21-bioc/R/site-library --timings ChemmineR_3.60.0.tar.gz StartedAt: 2025-09-28 21:50:40 -0400 (Sun, 28 Sep 2025) EndedAt: 2025-09-28 21:53:02 -0400 (Sun, 28 Sep 2025) EllapsedTime: 142.2 seconds RetCode: 0 Status: WARNINGS CheckDir: ChemmineR.Rcheck Warnings: 2