Package: ChemmineR Version: 3.60.0 Command: /Library/Frameworks/R.framework/Resources/bin/R CMD check --install=check:ChemmineR.install-out.txt --library=/Library/Frameworks/R.framework/Resources/library --no-vignettes --timings ChemmineR_3.60.0.tar.gz StartedAt: 2025-09-30 01:18:48 -0400 (Tue, 30 Sep 2025) EndedAt: 2025-09-30 01:23:34 -0400 (Tue, 30 Sep 2025) EllapsedTime: 285.9 seconds RetCode: 0 Status: WARNINGS CheckDir: ChemmineR.Rcheck Warnings: 1