Package: ChemmineOB Version: 1.46.0 Command: E:\biocbuild\bbs-3.21-bioc\R\bin\R.exe CMD check --no-multiarch --install=check:ChemmineOB.install-out.txt --library=E:\biocbuild\bbs-3.21-bioc\R\library --no-vignettes --timings ChemmineOB_1.46.0.tar.gz StartedAt: 2025-08-15 00:29:56 -0400 (Fri, 15 Aug 2025) EndedAt: 2025-08-15 00:32:54 -0400 (Fri, 15 Aug 2025) EllapsedTime: 178.1 seconds RetCode: 0 Status: WARNINGS CheckDir: ChemmineOB.Rcheck Warnings: 3