Package: ChIPseqR Version: 1.63.0 Command: /home/biocbuild/R/R/bin/R CMD build --keep-empty-dirs --no-resave-data ChIPseqR StartedAt: 2025-10-20 22:41:11 -0000 (Mon, 20 Oct 2025) EndedAt: 2025-10-20 22:42:51 -0000 (Mon, 20 Oct 2025) EllapsedTime: 100.0 seconds RetCode: 0 Status: OK PackageFile: ChIPseqR_1.63.0.tar.gz PackageFileSize: 721 KiB