Package: ChIPseqR Version: 1.64.0 Command: /home/biocbuild/bbs-3.22-bioc/R/bin/R CMD INSTALL ChIPseqR StartedAt: 2025-11-05 16:00:54 -0500 (Wed, 05 Nov 2025) EndedAt: 2025-11-05 16:01:29 -0500 (Wed, 05 Nov 2025) EllapsedTime: 35.4 seconds RetCode: 0 Status: OK