Package: ChIPseqR Version: 1.64.0 Command: /home/biocbuild/bbs-3.22-bioc/R/bin/R CMD check --install=check:ChIPseqR.install-out.txt --library=/home/biocbuild/bbs-3.22-bioc/R/site-library --timings ChIPseqR_1.64.0.tar.gz StartedAt: 2025-11-05 22:10:23 -0500 (Wed, 05 Nov 2025) EndedAt: 2025-11-05 22:14:55 -0500 (Wed, 05 Nov 2025) EllapsedTime: 272.2 seconds RetCode: 0 Status: WARNINGS CheckDir: ChIPseqR.Rcheck Warnings: 1