Package: ChIPseqR Version: 1.64.0 Command: /home/biocbuild/bbs-3.22-bioc/R/bin/R CMD build --keep-empty-dirs --no-resave-data --md5 ChIPseqR StartedAt: 2025-11-05 16:57:38 -0500 (Wed, 05 Nov 2025) EndedAt: 2025-11-05 16:58:54 -0500 (Wed, 05 Nov 2025) EllapsedTime: 76.1 seconds RetCode: 0 Status: OK PackageFile: ChIPseqR_1.64.0.tar.gz PackageFileSize: 730.7 KiB