Package: ChIPseeker Version: 1.46.0 Command: /Library/Frameworks/R.framework/Resources/bin/R CMD build --keep-empty-dirs --no-resave-data ChIPseeker StartedAt: 2025-11-03 16:27:20 -0500 (Mon, 03 Nov 2025) EndedAt: 2025-11-03 16:42:16 -0500 (Mon, 03 Nov 2025) EllapsedTime: 896.2 seconds RetCode: 0 Status: OK PackageFile: ChIPseeker_1.46.0.tar.gz PackageFileSize: 7.415 MiB