Package: ChIPseeker Version: 1.44.0 Command: /Library/Frameworks/R.framework/Resources/bin/R CMD INSTALL ChIPseeker StartedAt: 2025-10-09 18:37:52 -0400 (Thu, 09 Oct 2025) EndedAt: 2025-10-09 18:38:52 -0400 (Thu, 09 Oct 2025) EllapsedTime: 60.4 seconds RetCode: 0 Status: OK