Package: ChIPseeker Version: 1.44.0 Command: /Library/Frameworks/R.framework/Resources/bin/R CMD build --keep-empty-dirs --no-resave-data ChIPseeker StartedAt: 2025-10-09 21:16:55 -0400 (Thu, 09 Oct 2025) EndedAt: 2025-10-09 21:27:35 -0400 (Thu, 09 Oct 2025) EllapsedTime: 640.0 seconds RetCode: 0 Status: OK PackageFile: ChIPseeker_1.44.0.tar.gz PackageFileSize: 7.412 MiB