Package: ChIPpeakAnno Version: 3.42.0 Command: rm -rf ChIPpeakAnno.buildbin-libdir && mkdir ChIPpeakAnno.buildbin-libdir && /Users/biocbuild/BBS/utils/build-universal.sh ChIPpeakAnno_3.42.0.tar.gz /Library/Frameworks/R.framework/Resources/bin/R ChIPpeakAnno.buildbin-libdir StartedAt: 2025-09-30 12:50:36 -0400 (Tue, 30 Sep 2025) EndedAt: 2025-09-30 12:54:12 -0400 (Tue, 30 Sep 2025) EllapsedTime: 215.8 seconds RetCode: 0 Status: OK PackageFile: ChIPpeakAnno_3.42.0.tgz PackageFileSize: 22.64 MiB