Package: ChIPanalyser Version: 1.31.0 Command: chmod a+r ChIPanalyser -R && F:\biocbuild\bbs-3.22-bioc\R\bin\R.exe CMD build --keep-empty-dirs --no-resave-data ChIPanalyser StartedAt: 2025-08-14 19:05:14 -0400 (Thu, 14 Aug 2025) EndedAt: 2025-08-14 19:26:42 -0400 (Thu, 14 Aug 2025) EllapsedTime: 1287.6 seconds RetCode: 0 Status: OK PackageFile: ChIPanalyser_1.31.0.tar.gz PackageFileSize: 1.092 MiB