Package: ChIPQC Version: 1.44.0 Command: E:\biocbuild\bbs-3.21-bioc\R\bin\R.exe CMD INSTALL ChIPQC StartedAt: 2025-08-14 17:07:47 -0400 (Thu, 14 Aug 2025) EndedAt: 2025-08-14 17:09:25 -0400 (Thu, 14 Aug 2025) EllapsedTime: 97.6 seconds RetCode: 0 Status: OK