Package: ChIPQC Version: 1.44.0 Command: E:\biocbuild\bbs-3.21-bioc\R\bin\R.exe CMD check --no-multiarch --install=check:ChIPQC.install-out.txt --library=E:\biocbuild\bbs-3.21-bioc\R\library --no-vignettes --timings ChIPQC_1.44.0.tar.gz StartedAt: 2025-08-15 00:32:23 -0400 (Fri, 15 Aug 2025) EndedAt: 2025-08-15 00:40:35 -0400 (Fri, 15 Aug 2025) EllapsedTime: 492.1 seconds RetCode: 0 Status: OK CheckDir: ChIPQC.Rcheck Warnings: 0