Package: ChIPQC Version: 1.44.0 Command: rm -rf ChIPQC.buildbin-libdir && mkdir ChIPQC.buildbin-libdir && E:\biocbuild\bbs-3.21-bioc\R\bin\R.exe CMD INSTALL --build --library=ChIPQC.buildbin-libdir ChIPQC_1.44.0.tar.gz StartedAt: 2025-08-15 08:58:44 -0400 (Fri, 15 Aug 2025) EndedAt: 2025-08-15 09:00:21 -0400 (Fri, 15 Aug 2025) EllapsedTime: 97.6 seconds RetCode: 0 Status: OK PackageFile: ChIPQC_1.44.0.zip PackageFileSize: 2.091 MiB