Package: ChIPQC Version: 1.44.0 Command: /home/biocbuild/bbs-3.21-bioc/R/bin/R CMD check --install=check:ChIPQC.install-out.txt --library=/home/biocbuild/bbs-3.21-bioc/R/site-library --timings ChIPQC_1.44.0.tar.gz StartedAt: 2025-10-15 21:41:15 -0400 (Wed, 15 Oct 2025) EndedAt: 2025-10-15 21:48:40 -0400 (Wed, 15 Oct 2025) EllapsedTime: 445.6 seconds RetCode: 0 Status: OK CheckDir: ChIPQC.Rcheck Warnings: 0