Package: ChIPQC Version: 1.44.0 Command: /Library/Frameworks/R.framework/Resources/bin/R CMD INSTALL ChIPQC StartedAt: 2025-10-13 16:51:12 -0400 (Mon, 13 Oct 2025) EndedAt: 2025-10-13 16:52:42 -0400 (Mon, 13 Oct 2025) EllapsedTime: 90.1 seconds RetCode: 0 Status: OK